BEGIN:VCALENDAR
VERSION:2.0
CALSCALE:GREGORIAN
METHOD:PUBLISH
PRODID://ESA//515502
BEGIN:VEVENT
DTSTAMP:20260421T070718
VTIMEZONE:Pacific/Honolulu
DTSTART:20260615T100000Z
DTEND:20260618T094500Z
UID:515502
SUMMARY:2026 African Meeting, Rabat
LOCATION:
DESCRIPTION:2026 African Meeting, Rabat\n\n06/15/26 12:00 AM HAW\n - 06/17/26 11:45 PM HAW\Description:\nThe 2026 Economic Science Association (ESA) Africa Conference will take place at the Africa Institute for Research in Economics and Social Sciences (AIRESS), Mohammed VI Polytechnic University (UM6P), in Rabat, Morocco, from the late afternoon of June 15 to the evening of June 17, 2026.\n\nWe invite presentations of research papers or experimental designs related to experiments in economics, behavioral economics, and policy evaluation. Research projects led by scholars from African institutions and/or focusing on topics of relevance to Africa are warmly encouraged.\n\nThe conference will provide a leading forum for researchers at all career stages, based in Africa and elsewhere, working on experimental research relevant to the continent.\n\nKey dates\n18 December 2025: Talk submissions open\n20 February 2026: Deadline to submit talks\n03 March 2026: Notification of acceptances\n17 April 2026: Early registration deadline\n15 May 2026: Standard registration deadline\n\nRegistration fees:\n\nEarly bird\nFaculty, post-doc and professionals: USD 350\nStudents: USD 200\nLMIC faculty, post-doc and professionals: USD 200\nLMIC students: USD 150\n\nStandard\nFaculty, post-doc and professionals: USD 450\nStudents: USD 300\nLMIC faculty, post-doc and professionals: USD 250\nLMIC students: USD 200\n\n 
X-ALT-DESC;FMTTYPE=text/html:2026 African Meeting, Rabat<br /><br />06/15/26 12:00 AM HAW - 06/17/26 11:45 PM HAW<br />Description:<br />The 2026 Economic Science Association (ESA) Africa Conference will take place at the Africa Institute for Research in Economics and Social Sciences (AIRESS), Mohammed VI Polytechnic University (UM6P), in Rabat, Morocco, from the late afternoon of June 15 to the evening of June 17, 2026.<br />
<br />
We invite presentations of research papers or experimental designs related to experiments in economics, behavioral economics, and policy evaluation. Research projects led by scholars from African institutions and/or focusing on topics of relevance to Africa are warmly encouraged.<br />
<br />
The conference will provide a leading forum for researchers at all career stages, based in Africa and elsewhere, working on experimental research relevant to the continent.<br />
<br />
<strong>Key dates</strong><br />
<strong>18 December 2025:</strong> Talk submissions open<br />
<strong>20 February 2026:</strong> Deadline to submit talks<br />
<strong>03 March 2026:</strong> Notification of acceptances<br />
<strong>17 April 2026:</strong> Early registration deadline<br />
<strong>15 May 2026:</strong>&nbsp;Standard registration deadline<br />
<br />
<strong>Registration fees:</strong><br />
<br />
<strong>Early bird</strong><br />
Faculty, post-doc and professionals: USD 350<br />
Students: USD 200<br />
LMIC faculty, post-doc and professionals: USD 200<br />
LMIC students: USD 150<br />
<br />
<strong>Standard</strong><br />
Faculty, post-doc and professionals: USD 450<br />
Students: USD 300<br />
LMIC faculty, post-doc and professionals: USD 250<br />
LMIC students: USD 200<br />
<br />
&nbsp;
PRIORITY:3
TRANSP:TRANSPARENT
BEGIN:VALARM
TRIGGER:-PT5M
ACTION:DISPLAY
DESCRIPTION:Reminder
END:VALARM
END:VEVENT
END:VCALENDAR
