BEGIN:VCALENDAR
VERSION:2.0
CALSCALE:GREGORIAN
METHOD:PUBLISH
PRODID://ESA//515503
BEGIN:VEVENT
DTSTAMP:20260424T094413
VTIMEZONE:Pacific/Honolulu
DTSTART:20260714T100000Z
DTEND:20260718T094500Z
UID:515503
SUMMARY:2026 World Meeting, Los Angeles
LOCATION:
DESCRIPTION:2026 World Meeting, Los Angeles\n\n07/14/26 12:00 AM HAW\n - 07/17/26 11:45 PM HAW\Description:\nThe 2026 World Meetings of the Economic Science Association will be held at the Marriott Resort Hotel in Marina del Rey, California, just half a mile from Venice Beach and an easy 15-minute car ride from Los Angeles International Airport (LAX). The conference will open with a welcome reception on the evening of Tuesday, July 14th, and continue through Friday, July 17th. \n \nThis year is especially meaningful as we celebrate the 40th anniversary of the Economic Science Association. The program will feature contributed and invited presentations, plenary sessions, professional-development opportunities for junior scholars, and lively receptions.  We look forward to celebrating four decades of the ESA and our global community.\n \nKey dates:\n•  26 January 2026 – Talk submissions open \n•  16 March 2026 – Talk submissions deadline \n•  30 March 2026 – Notification of acceptance / Registration opens\n•  4 May 2026 – Deadline for early registration \n•  8 June 2026 – Registration closes\n \nConference fees:\n•  Early registration faculty: USD 500\n•  Early registration student: USD 350\n•  Early registration LMIC faculty: USD 350\n•  Early registration LMIC student: USD 250\n•  Standard registration faculty: USD 600\n•  Standard registration student: USD 450\n•  Standard registration LMIC faculty: USD 500\n•  Standard registration LMIC student: USD 350\n \nThe conference venue is surrounded by restaurants, walking paths, and ocean views, with convenient access to Santa Monica, Venice, and greater Los Angeles. This summer also brings the FIFA World Cup to Los Angeles, with the quarterfinal match taking place nearby at SoFi Stadium on Friday, July 10th, so plan to book your travel early. Additional details regarding hotel rates and other conference resources will be announced soon.\n \nOn behalf of Loyola Marymount University and the University of California San Diego, we look forward to welcoming you to Los Angeles in July.\n
X-ALT-DESC;FMTTYPE=text/html:2026 World Meeting, Los Angeles<br /><br />07/14/26 12:00 AM HAW - 07/17/26 11:45 PM HAW<br />Description:<br /><p>The 2026 World Meetings of the Economic Science Association will be held at the Marriott Resort Hotel in Marina del Rey, California, just half a mile from Venice Beach and an easy 15-minute car ride from Los Angeles International Airport (LAX). The conference will open with a welcome reception on the evening of Tuesday, July 14th, and continue through Friday, July 17th.&nbsp;<br />
&nbsp;<br />
This year is especially meaningful as we celebrate the 40th anniversary of the Economic Science Association. The program will feature contributed and invited presentations, plenary sessions, professional-development opportunities for junior scholars, and lively receptions.&nbsp; We look forward to celebrating four decades of the ESA and our global community.<br />
&nbsp;<br />
<strong>Key dates:</strong><br />
&bull;&nbsp; 26 January 2026 &ndash; Talk submissions open&nbsp;<br />
&bull;&nbsp; 16 March 2026 &ndash; Talk submissions deadline&nbsp;<br />
&bull;&nbsp; 30 March 2026 &ndash; Notification of acceptance / Registration opens<br />
&bull;&nbsp; 4 May 2026 &ndash; Deadline for early registration&nbsp;<br />
&bull;&nbsp; 8 June 2026 &ndash; Registration closes<br />
&nbsp;<br />
<strong>Conference fees:</strong><br />
&bull;&nbsp; Early registration faculty: USD 500<br />
&bull;&nbsp; Early registration student: USD 350<br />
&bull;&nbsp; Early registration LMIC faculty: USD 350<br />
&bull;&nbsp; Early registration LMIC student: USD 250<br />
&bull; &nbsp;Standard registration faculty: USD 600<br />
&bull; &nbsp;Standard&nbsp;registration student: USD 450<br />
&bull; &nbsp;Standard&nbsp;registration LMIC faculty: USD 500<br />
&bull; &nbsp;Standard&nbsp;registration LMIC student: USD 350<br />
&nbsp;<br />
The conference venue is surrounded by restaurants, walking paths, and ocean views, with convenient access to Santa Monica, Venice, and greater Los Angeles. This summer also brings the FIFA World Cup to Los Angeles, with the quarterfinal match taking place nearby at SoFi Stadium on Friday, July 10th, so plan to book your travel early. Additional details regarding hotel rates and other conference resources will be announced soon.<br />
&nbsp;<br />
On behalf of Loyola Marymount University and the University of California San Diego, we look forward to welcoming you to Los Angeles in July.</p>

PRIORITY:3
TRANSP:TRANSPARENT
BEGIN:VALARM
TRIGGER:-PT5M
ACTION:DISPLAY
DESCRIPTION:Reminder
END:VALARM
END:VEVENT
END:VCALENDAR
