BEGIN:VCALENDAR
VERSION:2.0
CALSCALE:GREGORIAN
METHOD:PUBLISH
PRODID://ESA//515504
BEGIN:VEVENT
DTSTAMP:20260421T085035
VTIMEZONE:Pacific/Honolulu
DTSTART:20260902T100000Z
DTEND:20260906T094500Z
UID:515504
SUMMARY:2026 European Meeting, Barcelona
LOCATION:
DESCRIPTION:2026 European Meeting, Barcelona\n\n09/02/26 12:00 AM HAW\n - 09/05/26 11:45 PM HAW\Description:\nWe are delighted to announce that Universitat Pompeu Fabra, Barcelona, will host the 2026 European ESA Meeting from 2 to 5 September 2026. The conference will feature a series of keynote talks, special sessions, parallel sessions, faculty-student meetings, and social events in sunny Barcelona. This will be a special occasion, as 2026 marks the 40th anniversary of the ESA. On the 2nd of September there will be a workshop in honor of Jordi Brandts.\n\nKey dates:\n\n	11 May: Submission deadline\n	25 May: Notification of acceptance\n	23 June: Early registration deadline\n	15 July: Standard registration deadline\n	2 September: Pre-conference workshop in honor of Jordi Brandts\n	2 September (18:00) – 5 September: Conference\n\n\nConference fees:\n\n\n	Early registration faculty: USD 450\n	Early registration faculty LMIC: USD 300\n	Early registration students: USD 300\n	Early registration students LMIC: USD 200\n	Early registration Jordi Brandts workshop: USD 100\n\n \n\n\n	Standard registration faculty: USD 550\n	Standard registration faculty LMIC: USD 400\n	Standard registration students: USD 400\n	Standard registration students LMIC: USD 300\n	Standard registration Jordi Brandts workshop: USD 150\n\n
X-ALT-DESC;FMTTYPE=text/html:2026 European Meeting, Barcelona<br /><br />09/02/26 12:00 AM HAW - 09/05/26 11:45 PM HAW<br />Description:<br />We are delighted to announce that Universitat Pompeu Fabra, Barcelona, will host the 2026 European ESA Meeting from 2 to 5 September 2026. The conference will feature a series of keynote talks, special sessions, parallel sessions, faculty-student meetings, and social events in sunny Barcelona. This will be a special occasion, as 2026 marks the 40th anniversary of the ESA.<strong>&nbsp;</strong>On the 2<sup>nd</sup>&nbsp;of September there will be a workshop in honor of Jordi Brandts.<br />
<br />
<strong>Key dates:</strong>
<ul>
	<li>11 May: Submission deadline</li>
	<li>25 May: Notification of acceptance</li>
	<li>23 June: Early registration deadline</li>
	<li>15 July: Standard registration deadline</li>
	<li>2 September: Pre-conference workshop in honor of Jordi Brandts</li>
	<li>2 September (18:00) &ndash; 5 September: Conference</li>
</ul>
<br />
<strong>Conference fees:</strong>

<ul>
	<li>Early registration faculty: USD 450</li>
	<li>Early registration faculty LMIC: USD 300</li>
	<li>Early registration students: USD 300</li>
	<li>Early registration students LMIC: USD 200</li>
	<li>Early registration&nbsp;Jordi Brandts workshop: USD 100</li>
</ul>
&nbsp;

<ul>
	<li>Standard registration faculty: USD 550</li>
	<li>Standard registration faculty LMIC:&nbsp;USD 400</li>
	<li>Standard&nbsp;registration students: USD 400</li>
	<li>Standard&nbsp;registration students LMIC: USD 300</li>
	<li>Standard registration&nbsp;Jordi Brandts workshop: USD 150</li>
</ul>

PRIORITY:3
TRANSP:TRANSPARENT
BEGIN:VALARM
TRIGGER:-PT5M
ACTION:DISPLAY
DESCRIPTION:Reminder
END:VALARM
END:VEVENT
END:VCALENDAR
